BEGIN:VCALENDAR
VERSION:2.0
PRODID:-//The Gathering Caloundra - ECPv5.2.0//NONSGML v1.0//EN
CALSCALE:GREGORIAN
METHOD:PUBLISH
X-WR-CALNAME:The Gathering Caloundra
X-ORIGINAL-URL:https://caloundra.churchontherise.org.au
X-WR-CALDESC:Events for The Gathering Caloundra
BEGIN:VTIMEZONE
TZID:UTC
BEGIN:STANDARD
TZOFFSETFROM:+0000
TZOFFSETTO:+0000
TZNAME:UTC
DTSTART:20190101T000000
END:STANDARD
END:VTIMEZONE
BEGIN:VEVENT
DTSTART;TZID=UTC:20190509T080000
DTEND;TZID=UTC:20190509T170000
DTSTAMP:20210227T224755
CREATED:20190509T023404Z
LAST-MODIFIED:20190509T023404Z
UID:1613-1557388800-1557421200@caloundra.churchontherise.org.au
SUMMARY:Overcomers
DESCRIPTION:10am – 12pm
URL:https://caloundra.churchontherise.org.au/event/overcomers/
END:VEVENT
END:VCALENDAR